BEGIN:VCALENDAR
VERSION:2.0
PRODID:-//San Francisco Press Club - ECPv6.15.18//NONSGML v1.0//EN
CALSCALE:GREGORIAN
METHOD:PUBLISH
X-WR-CALNAME:San Francisco Press Club
X-ORIGINAL-URL:https://sfpressclub.org
X-WR-CALDESC:Events for San Francisco Press Club
REFRESH-INTERVAL;VALUE=DURATION:PT1H
X-Robots-Tag:noindex
X-PUBLISHED-TTL:PT1H
BEGIN:VTIMEZONE
TZID:America/Denver
BEGIN:DAYLIGHT
TZOFFSETFROM:-0700
TZOFFSETTO:-0600
TZNAME:MDT
DTSTART:20210314T090000
END:DAYLIGHT
BEGIN:STANDARD
TZOFFSETFROM:-0600
TZOFFSETTO:-0700
TZNAME:MST
DTSTART:20211107T080000
END:STANDARD
BEGIN:DAYLIGHT
TZOFFSETFROM:-0700
TZOFFSETTO:-0600
TZNAME:MDT
DTSTART:20220313T090000
END:DAYLIGHT
BEGIN:STANDARD
TZOFFSETFROM:-0600
TZOFFSETTO:-0700
TZNAME:MST
DTSTART:20221106T080000
END:STANDARD
BEGIN:DAYLIGHT
TZOFFSETFROM:-0700
TZOFFSETTO:-0600
TZNAME:MDT
DTSTART:20230312T090000
END:DAYLIGHT
BEGIN:STANDARD
TZOFFSETFROM:-0600
TZOFFSETTO:-0700
TZNAME:MST
DTSTART:20231105T080000
END:STANDARD
END:VTIMEZONE
BEGIN:VEVENT
DTSTART;TZID=America/Denver:20220428T170000
DTEND;TZID=America/Denver:20220428T200000
DTSTAMP:20260425T203611
CREATED:20220420T084239Z
LAST-MODIFIED:20220422T014031Z
UID:16456-1651165200-1651176000@sfpressclub.org
SUMMARY:MEET THE PRESS CLUB: FREE MIXER FOR BAY AREA JOURNALISTS
DESCRIPTION:“Another was that curious institution called the newspaper bar. Every big city with a big paper had at least one: It was a combination social club and psychologist’s office where newspaper people met to discuss life\, to argue\, to plot against their editors.” – Carl Nolte\, The San Francisco Chronicle\, March 5\, 2022 \nWhether you’re a veteran journalist yearning to mingle again or a young star eager to introduce yourself to the industry\, you’re invited to our ink-stained gathering on April 28. The newly revitalized and rapidly growing San Francisco Press Club will host a free mixer at The Ramp\, a restaurant and bar on the water’s edge of the San Francisco Bay. \nThe renewed mission of the SFPC is to encourage excellence in journalism by providing training\, grants\, internships and recognition for professionals in Northern California. As always\, we will continue our popular Greater Bay Area Awards program\, now entering its 45th year. Visit us at sfpressclub.org \nThis is your chance to join in that effort as well as to connect with others who believe in the First Amendment\, integrity and the essential role of journalism in democracy. \nOh\, and there’s live music. The Irish Newsboys will provide “rowdy folk music peppered with a bit of San Francisco-style rock\,” as described by the Media Museum. The band features a collection of newspaper types\, such as Kevin Fagan\, a San Francisco Chronicle reporter who plays a mean guitar\, and Steve Rubenstein\, a legendary former Chronicle columnist. \nPLEASE NOTE: PLEASE RSVP / REGISTER FOR THE EVENT IN ADVANCE. VALID REGISTRATION IS REQUIRED FOR THE MIXER. \nWho’s invited: Writers\, editors\, photographers\, PR specialists and students aspiring to join the journalism community.\nWhen: April 28\, 2022\, from 5 p.m. to 8 p.m.\nWhere: The Ramp Restaurant\, 855 Terry A Francois Blvd. San Francisco\nTickets: Space is limited. Please Register.\nSF Press Club membership: sfpressclub.org/join
URL:https://sfpressclub.org/events/meet-the-press-club-free-mixer-for-bay-area-journalists/
LOCATION:The Ramp Restaurant\, 855 Terry A Francois Blvd\, San Francisco\, CA\, United States
END:VEVENT
END:VCALENDAR