BEGIN:VCALENDAR
VERSION:2.0
PRODID:-//San Francisco Press Club - ECPv6.15.18//NONSGML v1.0//EN
CALSCALE:GREGORIAN
METHOD:PUBLISH
X-WR-CALNAME:San Francisco Press Club
X-ORIGINAL-URL:https://sfpressclub.org
X-WR-CALDESC:Events for San Francisco Press Club
REFRESH-INTERVAL;VALUE=DURATION:PT1H
X-Robots-Tag:noindex
X-PUBLISHED-TTL:PT1H
BEGIN:VTIMEZONE
TZID:America/Los_Angeles
BEGIN:DAYLIGHT
TZOFFSETFROM:-0800
TZOFFSETTO:-0700
TZNAME:PDT
DTSTART:20220313T100000
END:DAYLIGHT
BEGIN:STANDARD
TZOFFSETFROM:-0700
TZOFFSETTO:-0800
TZNAME:PST
DTSTART:20221106T090000
END:STANDARD
BEGIN:DAYLIGHT
TZOFFSETFROM:-0800
TZOFFSETTO:-0700
TZNAME:PDT
DTSTART:20230312T100000
END:DAYLIGHT
BEGIN:STANDARD
TZOFFSETFROM:-0700
TZOFFSETTO:-0800
TZNAME:PST
DTSTART:20231105T090000
END:STANDARD
BEGIN:DAYLIGHT
TZOFFSETFROM:-0800
TZOFFSETTO:-0700
TZNAME:PDT
DTSTART:20240310T100000
END:DAYLIGHT
BEGIN:STANDARD
TZOFFSETFROM:-0700
TZOFFSETTO:-0800
TZNAME:PST
DTSTART:20241103T090000
END:STANDARD
END:VTIMEZONE
BEGIN:VTIMEZONE
TZID:America/Los_Angeles
BEGIN:DAYLIGHT
TZOFFSETFROM:-0800
TZOFFSETTO:-0700
TZNAME:PDT
DTSTART:20210314T100000
END:DAYLIGHT
BEGIN:STANDARD
TZOFFSETFROM:-0700
TZOFFSETTO:-0800
TZNAME:PST
DTSTART:20211107T090000
END:STANDARD
BEGIN:DAYLIGHT
TZOFFSETFROM:-0800
TZOFFSETTO:-0700
TZNAME:PDT
DTSTART:20220313T100000
END:DAYLIGHT
BEGIN:STANDARD
TZOFFSETFROM:-0700
TZOFFSETTO:-0800
TZNAME:PST
DTSTART:20221106T090000
END:STANDARD
BEGIN:DAYLIGHT
TZOFFSETFROM:-0800
TZOFFSETTO:-0700
TZNAME:PDT
DTSTART:20230312T100000
END:DAYLIGHT
BEGIN:STANDARD
TZOFFSETFROM:-0700
TZOFFSETTO:-0800
TZNAME:PST
DTSTART:20231105T090000
END:STANDARD
END:VTIMEZONE
BEGIN:VTIMEZONE
TZID:America/Denver
BEGIN:DAYLIGHT
TZOFFSETFROM:-0700
TZOFFSETTO:-0600
TZNAME:MDT
DTSTART:20210314T090000
END:DAYLIGHT
BEGIN:STANDARD
TZOFFSETFROM:-0600
TZOFFSETTO:-0700
TZNAME:MST
DTSTART:20211107T080000
END:STANDARD
BEGIN:DAYLIGHT
TZOFFSETFROM:-0700
TZOFFSETTO:-0600
TZNAME:MDT
DTSTART:20220313T090000
END:DAYLIGHT
BEGIN:STANDARD
TZOFFSETFROM:-0600
TZOFFSETTO:-0700
TZNAME:MST
DTSTART:20221106T080000
END:STANDARD
BEGIN:DAYLIGHT
TZOFFSETFROM:-0700
TZOFFSETTO:-0600
TZNAME:MDT
DTSTART:20230312T090000
END:DAYLIGHT
BEGIN:STANDARD
TZOFFSETFROM:-0600
TZOFFSETTO:-0700
TZNAME:MST
DTSTART:20231105T080000
END:STANDARD
END:VTIMEZONE
BEGIN:VEVENT
DTSTART;TZID=America/Los_Angeles:20230425T170000
DTEND;TZID=America/Los_Angeles:20230425T183000
DTSTAMP:20260425T190641
CREATED:20230411T151432Z
LAST-MODIFIED:20230411T152236Z
UID:16783-1682442000-1682447400@sfpressclub.org
SUMMARY:SF Press Club presents: “AI + Journalism = ?”
DESCRIPTION:The San Francisco Press Club today announced its panel discussion about the impact of artificial intelligence (AI) in the newsroom April 25 in Mountain View.  Bloomberg reporter Rachel Metz will moderate the panel. \nMicrosoft Bay Area Regional Site Leader and VP/GM of PowerPoint Shawn Villaron will host the event at Microsoft’s Silicon Valley campus. Steve Clayton\, Microsoft VP of Public Affairs\, will join the panel alongside veteran Bay Area journalists for an engaging conversation on how AI is changing the way news is covered and written. \n“I’m honored to be speaking with Bay Area journalists because we are entering an exciting new world where a massive platform shift towards artificial intelligence is taking place\,” said Clayton. “Our mission is to empower every person and every organization on the planet to achieve more\, and now we are adding the incredible potential of AI to that purpose.” \nPanelists include:  \nSteve Clayton\, Microsoft\, VP of Public Affairs\nMichael Nunez\, VentureBeat\, Editorial Director\nJon Swartz\, MarketWatch\, Senior Reporter\nJulie Jammot\, Agence France-Presse (AFP)\, Tech Correspondent\nBoone Ashworth\, Wired\, Staff Writer\nBenjamin Pimentel\, SF Examiner\, Senior Technology Reporter \nPanelist Jon Swartz\, senior reporter with MarketWatch\, explained that the classic hype cycle vs. trust debate is at play here. “All new technology fosters a fair amount of skepticism and fear. Eventually\, we find both harmful and beneficial results. AI is a tool\, not a replacement. And there will be a rollercoaster for at least six months.” \n“Bing and ChatGPT put AI at the center of nearly every conversation we’re having in the newsroom\,” said Curtis Sparrer\, president of the SF Press club and a principal of Bospar PR. “This is the best opportunity to hear from top journalists\, the people who matter most about this important discussion.” \n“Artificial intelligence is not a threat to journalism or storytelling\,” said Michael Nunez\, Editorial Director of VentureBeat. “It is a catalyst. It is a way to amplify our imagination and express our vision. It is a way to collaborate with machines and create something new and amazing.” \n“Newsrooms are divided between those who fear generative AI and those who already embrace it\,” said Julie Jammot\, tech reporter for AFP. “But it’s now a question of how and when\, not whether\, media organizations incorporate the technology into their production. As for journalists\, the challenging times ahead will hopefully unleash a flight to quality\, not some Darwinian mass extinction.” \n“I’ve been covering tech for more than 20 years\,” said Benjamin Pimentel\, Senior Technology Reporter for the SF Examiner. “The new AI frenzy unleashed after ChatGPT’s launch in November is probably the most exciting story I’ve ever covered.” \nDate and Time: \nTuesday\, April 25\, 2023\n5:00 pm to 6:30 pm PDT \nLocation:  \nMicrosoft Silicon Valley Campus\n1045 La Avenida St.\, Mountain View\, CA 94043\nLa Portage Theater (near the visitors’ entrance; parking available) \nAgenda: \n4:30-5:00 pm arrival and networking\n5:00-6:30 pm panel discussion\n6:30- 7:00 pm refreshments \nCost: \nWhile tickets cost $20\, there is no fee for SF Press Club members or journalists covering this event for a story.  Tickets must be acquired in advance at this link.
URL:https://sfpressclub.org/events/sf-press-club-presents-ai-journalism/
LOCATION:CA
ATTACH;FMTTYPE=image/jpeg:https://sfpressclub.org/wp-content/uploads/2023/04/sfpressclub-ai-event-copy.jpg
END:VEVENT
BEGIN:VEVENT
DTSTART;TZID=America/Los_Angeles:20221208T173000
DTEND;TZID=America/Los_Angeles:20221208T220000
DTSTAMP:20260425T190641
CREATED:20221103T160022Z
LAST-MODIFIED:20221123T033011Z
UID:16547-1670520600-1670536800@sfpressclub.org
SUMMARY:SF PRESS CLUB 2022 JOURNALISM AWARDS SHOW
DESCRIPTION:JOURNALIST AND POLITICAL INSIDER PHIL MATIER TO HEADLINE SF PRESS CLUB AWARDS SHOW\nLegendary Bay Area Journalist joins in-person awards show December 8\nSAN FRANCISCO – October 27\, 2022 \nThe San Francisco Press Club recently announced that Phil Matier will headline the organization’s first in-person awards show since the COVID-19 pandemic. The popular Greater Bay Area Journalism Awards will be presented at the San Francisco Airport Bayfront Hilton at 5:30 p.m. on December 8. Secure your tickets: available now for $75.00 or $100.00 at the door. \nMatier\, who describes himself as a “Bay Area political insider and journalist\,” has been featured in The San Francisco Examiner and the San Francisco Chronicle\, as well as on KRON-TV\, ABC-7 and KCBS radio. \n“The San Francisco Bay Area is a crucible for journalists\,” said Matier. “The Bay Area was ground zero for counterculture\, computers\, the Internet and social media. The journalists breaking these stories are better equipped than anyone in the industry to report on where we’re heading next as a society. I’m looking forward to honoring my colleagues while predicting what’s next for the Bay Area.” \n“Phil Matier headlining the San Francisco Press Club’s Awards Show demonstrates how important this event is to the Bay Area and to journalism at large\,” said Curtis Sparrer\, president of the San Francisco Press Club and Bospar PR. “As an executive producer at KRON-TV\, I was often awestruck by Phil’s insights\, wit and predictions. Journalists like Phil are protecting our democracy during an era of fake news and disinformation.” \nThe San Francisco Press Club drew an all-time record of 424 entries across a wide range of categories\, eclipsing last year’s previous high of 333 entries. Entries come from four divisions: daily newspapers\, digital media\, non-daily newspapers\, magazines/trade publications. Groupings within the divisions include news and news photography\, public relations\, radio/podcast\, television/video and college media. Within those groupings are a wide range of categories covering hard news\, features\, investigations and design. Judges for the contest hail from press clubs from around the country. \nAdvance tickets are on sale now for $75.00. Purchase your tickets now. Tickets will also be available for $100 per person at the door. \nCocktail service will begin at 5:30 p.m.\, with dinner and awards commencing at 6:30 p.m. \nThe address for the San Francisco Airport Bayfront Hilton is 600 Airport Blvd.\, Burlingame\, CA 94010. \nABOUT THE SAN FRANCISCO PRESS CLUB \nThe San Francisco Press Club is a nonprofit organization with 501(c)3 status. It was founded in 1963 to provide a forum for the interchange of idea and opinions between professionals in the various news and public relations media\, to provide an organization in which to share fellowship\, to promote professional competence and knowledge\, to encourage students entering journalism by offering scholarships\, and to increase public knowledge of the media though workshops and other exchanges of information. \nContact: Curtis Sparrer\, curtis@bospar.com \nSPECIAL THANKS TO OUR EVENT SPONSORS: \n \n \n 
URL:https://sfpressclub.org/events/sf-press-club-awards-show/
LOCATION:San Francisco Airport Bayfront Hilton 600 Airport Blvd.\, Burlingame\, CA 94010\, 600 Airport Blvd\, Burlingame\, CA\, 94010\, United States
END:VEVENT
BEGIN:VEVENT
DTSTART;TZID=America/Denver:20220428T170000
DTEND;TZID=America/Denver:20220428T200000
DTSTAMP:20260425T190641
CREATED:20220420T084239Z
LAST-MODIFIED:20220422T014031Z
UID:16456-1651165200-1651176000@sfpressclub.org
SUMMARY:MEET THE PRESS CLUB: FREE MIXER FOR BAY AREA JOURNALISTS
DESCRIPTION:“Another was that curious institution called the newspaper bar. Every big city with a big paper had at least one: It was a combination social club and psychologist’s office where newspaper people met to discuss life\, to argue\, to plot against their editors.” – Carl Nolte\, The San Francisco Chronicle\, March 5\, 2022 \nWhether you’re a veteran journalist yearning to mingle again or a young star eager to introduce yourself to the industry\, you’re invited to our ink-stained gathering on April 28. The newly revitalized and rapidly growing San Francisco Press Club will host a free mixer at The Ramp\, a restaurant and bar on the water’s edge of the San Francisco Bay. \nThe renewed mission of the SFPC is to encourage excellence in journalism by providing training\, grants\, internships and recognition for professionals in Northern California. As always\, we will continue our popular Greater Bay Area Awards program\, now entering its 45th year. Visit us at sfpressclub.org \nThis is your chance to join in that effort as well as to connect with others who believe in the First Amendment\, integrity and the essential role of journalism in democracy. \nOh\, and there’s live music. The Irish Newsboys will provide “rowdy folk music peppered with a bit of San Francisco-style rock\,” as described by the Media Museum. The band features a collection of newspaper types\, such as Kevin Fagan\, a San Francisco Chronicle reporter who plays a mean guitar\, and Steve Rubenstein\, a legendary former Chronicle columnist. \nPLEASE NOTE: PLEASE RSVP / REGISTER FOR THE EVENT IN ADVANCE. VALID REGISTRATION IS REQUIRED FOR THE MIXER. \nWho’s invited: Writers\, editors\, photographers\, PR specialists and students aspiring to join the journalism community.\nWhen: April 28\, 2022\, from 5 p.m. to 8 p.m.\nWhere: The Ramp Restaurant\, 855 Terry A Francois Blvd. San Francisco\nTickets: Space is limited. Please Register.\nSF Press Club membership: sfpressclub.org/join
URL:https://sfpressclub.org/events/meet-the-press-club-free-mixer-for-bay-area-journalists/
LOCATION:The Ramp Restaurant\, 855 Terry A Francois Blvd\, San Francisco\, CA\, United States
END:VEVENT
END:VCALENDAR