BEGIN:VCALENDAR
VERSION:2.0
PRODID:-//San Francisco Press Club - ECPv6.15.18//NONSGML v1.0//EN
CALSCALE:GREGORIAN
METHOD:PUBLISH
X-ORIGINAL-URL:https://sfpressclub.org
X-WR-CALDESC:Events for San Francisco Press Club
REFRESH-INTERVAL;VALUE=DURATION:PT1H
X-Robots-Tag:noindex
X-PUBLISHED-TTL:PT1H
BEGIN:VTIMEZONE
TZID:America/Los_Angeles
BEGIN:DAYLIGHT
TZOFFSETFROM:-0800
TZOFFSETTO:-0700
TZNAME:PDT
DTSTART:20220313T100000
END:DAYLIGHT
BEGIN:STANDARD
TZOFFSETFROM:-0700
TZOFFSETTO:-0800
TZNAME:PST
DTSTART:20221106T090000
END:STANDARD
BEGIN:DAYLIGHT
TZOFFSETFROM:-0800
TZOFFSETTO:-0700
TZNAME:PDT
DTSTART:20230312T100000
END:DAYLIGHT
BEGIN:STANDARD
TZOFFSETFROM:-0700
TZOFFSETTO:-0800
TZNAME:PST
DTSTART:20231105T090000
END:STANDARD
BEGIN:DAYLIGHT
TZOFFSETFROM:-0800
TZOFFSETTO:-0700
TZNAME:PDT
DTSTART:20240310T100000
END:DAYLIGHT
BEGIN:STANDARD
TZOFFSETFROM:-0700
TZOFFSETTO:-0800
TZNAME:PST
DTSTART:20241103T090000
END:STANDARD
BEGIN:DAYLIGHT
TZOFFSETFROM:-0800
TZOFFSETTO:-0700
TZNAME:PDT
DTSTART:20250309T100000
END:DAYLIGHT
BEGIN:STANDARD
TZOFFSETFROM:-0700
TZOFFSETTO:-0800
TZNAME:PST
DTSTART:20251102T090000
END:STANDARD
BEGIN:DAYLIGHT
TZOFFSETFROM:-0800
TZOFFSETTO:-0700
TZNAME:PDT
DTSTART:20260308T100000
END:DAYLIGHT
BEGIN:STANDARD
TZOFFSETFROM:-0700
TZOFFSETTO:-0800
TZNAME:PST
DTSTART:20261101T090000
END:STANDARD
END:VTIMEZONE
BEGIN:VEVENT
DTSTART;TZID=America/Los_Angeles:20231213T170000
DTEND;TZID=America/Los_Angeles:20231213T220000
DTSTAMP:20260425T172649
CREATED:20231110T191044Z
LAST-MODIFIED:20240611T211936Z
UID:16990-1702486800-1702504800@sfpressclub.org
SUMMARY:2023 Greater Bay Area Journalism Awards Gala
DESCRIPTION:The awards gala takes place on Wednesday\, December 13th at Elk’s Lodge #3\, 450 Post St. San Francisco. \nCocktail service begins at 5:30 p.m.\, with dinner and awards commencing at 6:30 p.m. \nTickets will be $125 per person at the door\, but The San Francisco Press Club is now selling them for $75. Please use the code ADVANCE to receive the early bird pricing. Buy your tickets now!
URL:https://sfpressclub.org/events/2023-greater-bay-area-journalism-awards-gala/
LOCATION:Elk’s Lodge #3\, 450 Post St\, San Francisco\, CA\, 94102\, United States
END:VEVENT
BEGIN:VEVENT
DTSTART;TZID=America/Los_Angeles:20240530T173000
DTEND;TZID=America/Los_Angeles:20240530T173000
DTSTAMP:20260425T172649
CREATED:20240522T193602Z
LAST-MODIFIED:20240522T195506Z
UID:19911-1717090200-1717090200@sfpressclub.org
SUMMARY:Journalist Happy Hour
DESCRIPTION:Greetings everyone! It’s been a while. It always is. \nWe are hosting a Journalist Happy Hour at El Rio on May 30th 5:30pm till late. \nTo attend please RSVP using this link. \nThanks to Joe Eskenazi for co-hosting. \nSee you May 30th. Can’t come soon enough!
URL:https://sfpressclub.org/events/journalist-happy-hour/
LOCATION:El Rio\, 3158 Mission St\, San Francisco\, CA\, 94110\, United States
ATTACH;FMTTYPE=image/jpeg:https://sfpressclub.org/wp-content/uploads/2024/05/image001.jpeg
END:VEVENT
BEGIN:VEVENT
DTSTART;TZID=America/Los_Angeles:20241204T173000
DTEND;TZID=America/Los_Angeles:20241204T210000
DTSTAMP:20260425T172649
CREATED:20240919T233519Z
LAST-MODIFIED:20241015T200428Z
UID:20120-1733333400-1733346000@sfpressclub.org
SUMMARY:Winter gala & awards ceremony
DESCRIPTION:The San Francisco Press Club is now selling tickets for its 47th awards gala after breaking a record in award entries. This year\, the Press Club received  798 entries\, surpassing last year’s total of 540. This is now the fourth year in a row the SF Press Club has broken its previous record. \n“To celebrate this milestone\, we’re hosting our award show at one of the most glamorous locations in San Francisco: the Julia Morgan Ballroom\,” said Curtis Sparrer\, president of the San Francisco Press Club. “We’re going all out with dedicated waiters\, gourmet food\, and stunning city views.  We’re looking forward to impressing our members with speakers who break news and make headlines.” \nThe awards gala will occur on Wednesday\, Dec. 4\, at The Julia Morgan Ballroom. Cocktail service will begin at 5:30 p.m.\, and dinner and awards will commence at 6:30 p.m. \nTickets will cost $200 at the door\, but The San Francisco Press Club is now selling them for $65 for current members\, $75 for working journalists\, $50 for students (with valid ID)\, and $150 for non-journalist allies. Full tables for groups up to ten can be purchased online\, too. Last year’s gala sold out quickly. Purchase your tickets today. \n“Please buy your tickets early\,” said Sparrer. “Last year’s sales burst through all expectations\, and this year\, we only have 300 seats available!”
URL:https://sfpressclub.org/events/winter-gala-awards-ceremony/
LOCATION:The Julia Morgan Ballroom\, 465 California Street\, San Francisco\, CA\, United States
END:VEVENT
BEGIN:VEVENT
DTSTART;TZID=America/Los_Angeles:20250325T183000
DTEND;TZID=America/Los_Angeles:20250325T203000
DTSTAMP:20260425T172649
CREATED:20250310T140117Z
LAST-MODIFIED:20250310T140117Z
UID:27842-1742927400-1742934600@sfpressclub.org
SUMMARY:Pleasanton Mixer
DESCRIPTION:The San Francisco Press Club invites journalists\, media professionals\, and community leaders to a special networking mixer featuring East Bay mayors. Join us for an evening of conversation\, collaboration\, and community building at Oyo Restaurant in Pleasanton on Tuesday\, March 25\, from 6:30 PM to 8:30 PM. \nLocated at 680 Main St.\, Pleasanton\, CA 94566\, Oyo offers a warm and inviting atmosphere\, complemented by a selection of delicious wines from Wood Family Vineyards in Livermore. This event provides a unique opportunity to engage with local leaders while enjoying the flavors of the region. \nDon’t miss this chance to connect with fellow media professionals and key decision-makers in the East Bay. \nSpace is limited to a maximum of 50 for this exclusive event! Please RSVP to secure your spot. \n 
URL:https://sfpressclub.org/events/pleasanton-mixer/
LOCATION:Oyo Resaturant Pleasanton\, 680 Main St\, Pleasanton\, CA\, 94566\, United States
END:VEVENT
BEGIN:VEVENT
DTSTART;TZID=America/Los_Angeles:20250416T180000
DTEND;TZID=America/Los_Angeles:20250416T190000
DTSTAMP:20260425T172649
CREATED:20250407T161442Z
LAST-MODIFIED:20250407T161442Z
UID:27861-1744826400-1744830000@sfpressclub.org
SUMMARY:Manny’s talk: Protecting Bay Area journalism during Trump 2.0
DESCRIPTION:Join the San Francisco Press Club on April 16th for a crucial discussion about the challenges and future of independent Bay Area journalism amid President Donald Trump’s second term. \nKQED VP of News Ethan Toven-Lindsey will moderate an exploration of the mounting challenges facing Bay Area newsrooms amid industry consolidation\, economic pressures and unprecedented political scrutiny. \nPanelists include Demian Bulwa\, director of news at the San Francisco Chronicle; Marisa Lagos\, political correspondent for KQED co-host of the “Political Breakdown” podcast; and Tom Burke\, an veteran attorney with the firm Davis Wright Tremaine LLP who specializes in free speech and open government cases. \nPanelists will examine strategies for preserving independent local reporting and government access while continuing to serve diverse communities with essential journalism in one of America’s most complex media markets. \nWhen: Wednesday\, April 16\, 6-7 p.m. \nWhere: Manny’s in the Mission\, 309216th Street San Francisco (one block from 16th/Mission BART station). Come early for drinks and mingling with fellow Bay Area journalists\, comms pros and like minds. \nRSVP: Event is open to the general public\, please register today to reserve your seats: https://www.eventbrite.com/e/protecting-bay-area-journalism-during-trump-20-tickets-1296368917329 \nCost: $15 (50% of proceeds will benefit the Press Club’s scholarship fund for emerging journalists). Anyone with financial hardship can request a free ticket.
URL:https://sfpressclub.org/events/mannys-talk-protecting-bay-area-journalism-during-trump-2-0/
LOCATION:Manny’s\, 3092 16th Street\, San Francisco\, CA\, 94103\, United States
END:VEVENT
BEGIN:VEVENT
DTSTART;TZID=America/Los_Angeles:20251209T173000
DTEND;TZID=America/Los_Angeles:20251209T220000
DTSTAMP:20260425T172649
CREATED:20250916T201619Z
LAST-MODIFIED:20251110T185252Z
UID:27978-1765301400-1765317600@sfpressclub.org
SUMMARY:48th Winter Awards Ceremony & Gala
DESCRIPTION:Tickets are now on sale. Get yours before they sell out! \n2025 SFPC Awards Gala Tickets
URL:https://sfpressclub.org/events/48th-winter-awards-ceremony-gala/
LOCATION:The Julia Morgan Ballroom\, 465 California Street\, San Francisco\, CA\, United States
END:VEVENT
END:VCALENDAR